BEGIN:VCALENDAR
VERSION:2.0
PRODID:-//wp-events-plugin.com//7.2.3.1//EN
TZID:America/New_York
X-WR-TIMEZONE:America/New_York
BEGIN:VEVENT
UID:18613@goriverwalk.com
DTSTART;TZID=America/New_York:20240309T180000
DTEND;TZID=America/New_York:20240309T220000
DTSTAMP:20240206T154912Z
URL:https://www.goriverwalk.com/greater-fort-lauderdale-events/the-salvati
 on-army-of-broward-countys-red-shield-regatta
SUMMARY:The Salvation Army of Broward County’s Red Shield Regatta
DESCRIPTION:Inaugural Red Shield Regatta
ATTACH;FMTTYPE=image/jpeg:https://www.goriverwalk.com/wp-content/uploads/2
 024/02/rsz_redshieldregatta_2024_social_1080x1080_jan24.jpg
CATEGORIES:Business,Cocktail,Community,Food,Fundraiser
LOCATION:The Park at JM Family Enterprises\, 200 Jim Moran Boulevard\, Deer
 field Beach\, Florida\, 33442\, South Florida\, United States
X-APPLE-STRUCTURED-LOCATION;VALUE=URI;X-ADDRESS=200 Jim Moran Boulevard\, D
 eerfield Beach\, Florida\, 33442\, South Florida\, United States;X-APPLE-R
 ADIUS=100;X-TITLE=The Park at JM Family Enterprises:geo:0,0
END:VEVENT
BEGIN:VTIMEZONE
TZID:America/New_York
X-LIC-LOCATION:America/New_York
BEGIN:STANDARD
DTSTART:20231105T010000
TZOFFSETFROM:-0400
TZOFFSETTO:-0500
TZNAME:EST
END:STANDARD
END:VTIMEZONE
END:VCALENDAR