BEGIN:VCALENDAR
VERSION:2.0
PRODID:-//wp-events-plugin.com//7.2.3.1//EN
TZID:America/New_York
X-WR-TIMEZONE:America/New_York
BEGIN:VEVENT
UID:4827@goriverwalk.com
DTSTART;TZID=America/New_York:20180609T180000
DTEND;TZID=America/New_York:20180609T210000
DTSTAMP:20180530T204857Z
URL:https://www.goriverwalk.com/greater-fort-lauderdale-events/the-s-n-a-p
 -2
SUMMARY:The S.N.A.P 2
DESCRIPTION:Shop\, Network\, &amp\; Appreciate Photography
ATTACH;FMTTYPE=image/jpeg:https://www.goriverwalk.com/wp-content/uploads/2
 018/05/Webp.net-resizeimage-2.jpg
CATEGORIES:Art,Business,Community,Education,Food,Music
LOCATION:C&amp\;I Studios\, 541 NW 1st Ave\, Fort Lauderdale \, Florida\, 3
 3301\, United States
GEO:26.129335;-80.144943
X-APPLE-STRUCTURED-LOCATION;VALUE=URI;X-ADDRESS=541 NW 1st Ave\, Fort Laude
 rdale \, Florida\, 33301\, United States;X-APPLE-RADIUS=100;X-TITLE=C&I St
 udios:geo:26.129335,-80.144943
END:VEVENT
BEGIN:VTIMEZONE
TZID:America/New_York
X-LIC-LOCATION:America/New_York
BEGIN:DAYLIGHT
DTSTART:20180311T030000
TZOFFSETFROM:-0500
TZOFFSETTO:-0400
TZNAME:EDT
END:DAYLIGHT
END:VTIMEZONE
END:VCALENDAR