BEGIN:VCALENDAR
VERSION:2.0
PRODID:-//wp-events-plugin.com//7.2.3.1//EN
TZID:America/New_York
X-WR-TIMEZONE:America/New_York
BEGIN:VEVENT
UID:22814@goriverwalk.com
DTSTART;TZID=America/New_York:20260422T193000
DTEND;TZID=America/New_York:20260422T193000
DTSTAMP:20260325T155139Z
URL:https://www.goriverwalk.com/greater-fort-lauderdale-events/the-rush-tr
 ibute-project
SUMMARY:The Rush Tribute Project
DESCRIPTION:The Rush Tribute Project is an homage to one of the most enduri
 ng and influential bands in rock music. Combining skilled musicianship wit
 h exciting performances\, RTP brings the magic of Rush’s famous live con
 certs to clubs\, theaters and festivals. Covering all forty-plus years of 
 Rush’s amazing career\, RTP painstakingly recreates the sound and energy
  that has made Rush one of the top-selling rock bands of all time. With a 
 lineup that has performed Rush tribute shows for over two decades across N
 orth America and around the world\, including RushCon\, RTP stands out as 
 one of the premiere tributes to a legendary band. This three-piece uses vi
 ntage instruments\, clothes and sounds to produce a Rush concert experienc
 e that is unparalleled for the casual fan as well as the most discerning R
 ush fan.\n\nFor more information click here.
ATTACH;FMTTYPE=image/jpeg:https://www.goriverwalk.com/wp-content/uploads/2
 026/03/4.22.26-Rush.png
CATEGORIES:Music
LOCATION:Parker Playhouse\, 707 NE 8th Street\, Fort Lauderdale\, FL\, 3330
 4\, United States
GEO:26.134246;-80.13617199999999
X-APPLE-STRUCTURED-LOCATION;VALUE=URI;X-ADDRESS=707 NE 8th Street\, Fort La
 uderdale\, FL\, 33304\, United States;X-APPLE-RADIUS=100;X-TITLE=Parker Pl
 ayhouse:geo:26.134246,-80.13617199999999
END:VEVENT
BEGIN:VTIMEZONE
TZID:America/New_York
X-LIC-LOCATION:America/New_York
BEGIN:DAYLIGHT
DTSTART:20260308T030000
TZOFFSETFROM:-0500
TZOFFSETTO:-0400
TZNAME:EDT
END:DAYLIGHT
END:VTIMEZONE
END:VCALENDAR