BEGIN:VCALENDAR
VERSION:2.0
PRODID:-//wp-events-plugin.com//7.2.3.1//EN
TZID:America/New_York
X-WR-TIMEZONE:America/New_York
BEGIN:VEVENT
UID:1481@goriverwalk.com
DTSTART;TZID=America/New_York:20160410T060000
DTEND;TZID=America/New_York:20160410T060000
DTSTAMP:20160215T190205Z
URL:https://www.goriverwalk.com/greater-fort-lauderdale-events/the-rainbow
 -5k-2016
SUMMARY:The Rainbow 5K 2016
DESCRIPTION:Benefitting the programs and services of the Pride Center at Eq
 uality Park.
ATTACH;FMTTYPE=image/jpeg:https://www.goriverwalk.com/wp-content/uploads/2
 015/12/Default-calendar-1.jpg
CATEGORIES:Cultural
LOCATION:Wilton Manors \, Wilton Manors Drive\, Wilton Manors \, Florida \,
  United States
GEO:26.160362;-80.138931
X-APPLE-STRUCTURED-LOCATION;VALUE=URI;X-ADDRESS=Wilton Manors Drive\, Wilto
 n Manors \, Florida \, United States;X-APPLE-RADIUS=100;X-TITLE=Wilton Man
 ors :geo:26.160362,-80.138931
END:VEVENT
BEGIN:VTIMEZONE
TZID:America/New_York
X-LIC-LOCATION:America/New_York
BEGIN:DAYLIGHT
DTSTART:20160313T030000
TZOFFSETFROM:-0500
TZOFFSETTO:-0400
TZNAME:EDT
END:DAYLIGHT
END:VTIMEZONE
END:VCALENDAR