BEGIN:VCALENDAR
VERSION:2.0
PRODID:-//wp-events-plugin.com//7.2.3.1//EN
TZID:America/New_York
X-WR-TIMEZONE:America/New_York
BEGIN:VEVENT
UID:15469@goriverwalk.com
DTSTART;TZID=America/New_York:20221103T073000
DTEND;TZID=America/New_York:20221103T090000
DTSTAMP:20221028T192313Z
URL:https://www.goriverwalk.com/greater-fort-lauderdale-events/the-politic
 ization-of-leading-the-executive-branch-of-government
SUMMARY:The Politicization of Leading the Executive Branch of Government
DESCRIPTION:A panel discussion
ATTACH;FMTTYPE=image/jpeg:https://www.goriverwalk.com/wp-content/uploads/2
 022/10/Tower-Forum-logo.png
CATEGORIES:Business,Networking
LOCATION:Tower Club\, 100 S.E. 3rd Avenue\, Fort Lauderdale\, FL\, 33394\, 
 United States
GEO:26.1218238;-80.1398054
X-APPLE-STRUCTURED-LOCATION;VALUE=URI;X-ADDRESS=100 S.E. 3rd Avenue\, Fort 
 Lauderdale\, FL\, 33394\, United States;X-APPLE-RADIUS=100;X-TITLE=Tower C
 lub:geo:26.1218238,-80.1398054
END:VEVENT
BEGIN:VTIMEZONE
TZID:America/New_York
X-LIC-LOCATION:America/New_York
BEGIN:DAYLIGHT
DTSTART:20220313T030000
TZOFFSETFROM:-0500
TZOFFSETTO:-0400
TZNAME:EDT
END:DAYLIGHT
END:VTIMEZONE
END:VCALENDAR