BEGIN:VCALENDAR
VERSION:2.0
PRODID:-//wp-events-plugin.com//7.2.3.1//EN
TZID:America/New_York
X-WR-TIMEZONE:America/New_York
BEGIN:VEVENT
UID:22695@goriverwalk.com
DTSTART;TZID=America/New_York:20260321T193000
DTEND;TZID=America/New_York:20260321T193000
DTSTAMP:20260316T152357Z
URL:https://www.goriverwalk.com/greater-fort-lauderdale-events/the-phillip
 -dunlap-jazz-trio
SUMMARY:The Phillip Dunlap Jazz Trio
DESCRIPTION:GENVAS proudly presentsSouth Florida TAPESTRY: The Power of Int
 ersection\nA compelling live concert experience celebrating the creative\,
  cultural\, and historical intersections of Black and LGBTQ+ communities t
 hrough the unifying language of jazz.\nRooted in South Florida’s richly 
 layered cultural landscape\, TAPESTRY stands at the crossroads of artist
 ry and activism — where music becomes a living testament to resilience\,
  identity\, and shared humanity. Blending jazz\, soul\, R&amp\;B\, pop\, a
 nd blues\, the program amplifies voices from LGBTQ+\, BIPOC\, and Hispanic
  communities\, reflecting the rhythms and lived experiences that define th
 e region.\nThe evening features The Phillip Dunlap Jazz Trio\, led by Phi
 llip Dunlap\, Director of the Broward County Cultural Division and a natio
 nally respected arts advocate\, educator\, and jazz historian. Hailing fro
 m St. Louis\, Missouri\, Dunlap has served on boards including Jazz St. Lo
 uis and Missouri Citizens for the Arts and has taught jazz history and mus
 ic business at institutions such as Webster University and Southern Illino
 is University–Edwardsville.\nJoining the trio is acclaimed jazz vocalist
  Leesa Richards\, a nationally renowned singer and songwriter celebrated 
 for her soulful interpretations of jazz standards and contemporary classic
 s. Her repertoire spans the works of Billie Holiday\, Ella Fitzgerald\, Na
 ncy Wilson\, Sade\, and Norah Jones\, among others. Richards has performed
  with legendary artists including Whitney Houston\, Faith Hill\, Barry Gib
 b\, Gloria Estefan\, Julio Iglesias\, and Kelly Clarkson\, and has recorde
 d with Barbra Streisand and Lenny Kravitz.\nFor more information and ticke
 ts click here.
ATTACH;FMTTYPE=image/jpeg:https://www.goriverwalk.com/wp-content/uploads/2
 026/03/Robert-Kesten-President-CEO-Stonewall-National-Museum-Library-Archi
 ves.png
CATEGORIES:Cultural,Music
LOCATION:ArtServe\, 1350 E. Sunrise Blvd.\, Fort Lauderdale\, FL\, 33304\, 
 Broward\, United States
GEO:26.136778;-80.1302407
X-APPLE-STRUCTURED-LOCATION;VALUE=URI;X-ADDRESS=1350 E. Sunrise Blvd.\, For
 t Lauderdale\, FL\, 33304\, Broward\, United States;X-APPLE-RADIUS=100;X-T
 ITLE=ArtServe:geo:26.136778,-80.1302407
END:VEVENT
BEGIN:VTIMEZONE
TZID:America/New_York
X-LIC-LOCATION:America/New_York
BEGIN:DAYLIGHT
DTSTART:20260308T030000
TZOFFSETFROM:-0500
TZOFFSETTO:-0400
TZNAME:EDT
END:DAYLIGHT
END:VTIMEZONE
END:VCALENDAR