BEGIN:VCALENDAR
VERSION:2.0
PRODID:-//wp-events-plugin.com//7.2.3.1//EN
TZID:America/New_York
X-WR-TIMEZONE:America/New_York
BEGIN:VEVENT
UID:5431@goriverwalk.com
DTSTART;TZID=America/New_York:20181214T190000
DTEND;TZID=America/New_York:20181214T210000
DTSTAMP:20181210T202834Z
URL:https://www.goriverwalk.com/greater-fort-lauderdale-events/the-nutcrac
 ker-4
SUMMARY:The Nutcracker
DESCRIPTION:A traditional holiday favoriate
ATTACH;FMTTYPE=image/jpeg:https://www.goriverwalk.com/wp-content/uploads/2
 018/07/The-Nutcracker.jpg
CATEGORIES:Dance
LOCATION:Parker Playhouse\, 707 NE 8th Street\, Fort Lauderdale\, FL\, 3330
 4\, United States
GEO:26.134246;-80.13617199999999
X-APPLE-STRUCTURED-LOCATION;VALUE=URI;X-ADDRESS=707 NE 8th Street\, Fort La
 uderdale\, FL\, 33304\, United States;X-APPLE-RADIUS=100;X-TITLE=Parker Pl
 ayhouse:geo:26.134246,-80.13617199999999
END:VEVENT
BEGIN:VTIMEZONE
TZID:America/New_York
X-LIC-LOCATION:America/New_York
BEGIN:STANDARD
DTSTART:20181104T010000
TZOFFSETFROM:-0400
TZOFFSETTO:-0500
TZNAME:EST
END:STANDARD
END:VTIMEZONE
END:VCALENDAR