BEGIN:VCALENDAR
VERSION:2.0
PRODID:-//wp-events-plugin.com//7.2.3.1//EN
TZID:America/New_York
X-WR-TIMEZONE:America/New_York
BEGIN:VEVENT
UID:2345@goriverwalk.com
DTSTART;TZID=America/New_York:20160605T110000
DTEND;TZID=America/New_York:20160605T160000
DTSTAMP:20160512T155216Z
URL:https://www.goriverwalk.com/greater-fort-lauderdale-events/the-highway
 men-art-show-and-sale
SUMMARY:The Highwaymen Art Show and Sale
DESCRIPTION:Experience the last great American Art Movement of the 20th Cen
 tury.
ATTACH;FMTTYPE=image/jpeg:https://www.goriverwalk.com/wp-content/uploads/2
 015/12/Default-calendar-1.jpg
CATEGORIES:Art,Cultural,History
LOCATION:Historic Fort Lauderdale Woman's Club\, 20 S Andrews Avenue\, Fort
  Lauderdale\, FL\, 33301\, United States
GEO:26.121808;-80.14323309999997
X-APPLE-STRUCTURED-LOCATION;VALUE=URI;X-ADDRESS=20 S Andrews Avenue\, Fort 
 Lauderdale\, FL\, 33301\, United States;X-APPLE-RADIUS=100;X-TITLE=Histori
 c Fort Lauderdale Woman's Club:geo:26.121808,-80.14323309999997
END:VEVENT
BEGIN:VTIMEZONE
TZID:America/New_York
X-LIC-LOCATION:America/New_York
BEGIN:DAYLIGHT
DTSTART:20160313T030000
TZOFFSETFROM:-0500
TZOFFSETTO:-0400
TZNAME:EDT
END:DAYLIGHT
END:VTIMEZONE
END:VCALENDAR