BEGIN:VCALENDAR
VERSION:2.0
PRODID:-//wp-events-plugin.com//7.2.3.1//EN
TZID:America/New_York
X-WR-TIMEZONE:America/New_York
BEGIN:VEVENT
UID:8535@goriverwalk.com
DTSTART;TZID=America/New_York:20191105T000000
DTEND;TZID=America/New_York:20191105T000000
DTSTAMP:20191031T160527Z
URL:https://www.goriverwalk.com/greater-fort-lauderdale-events/the-great-g
 atsby-comedy-show
SUMMARY:The Great Gatsby Comedy Show
DESCRIPTION:Kaycee Conlee headlining
ATTACH;FMTTYPE=image/jpeg:https://www.goriverwalk.com/wp-content/uploads/2
 019/02/Gatsbys-Joint-Logo-2.png
CATEGORIES:Comedy
LOCATION:Gatsby's Joint\, 2460 E. Commercial Blvd.\, Fort Lauderdale\, FL\,
  33308\, United States
GEO:26.189277;-80.112127
X-APPLE-STRUCTURED-LOCATION;VALUE=URI;X-ADDRESS=2460 E. Commercial Blvd.\, 
 Fort Lauderdale\, FL\, 33308\, United States;X-APPLE-RADIUS=100;X-TITLE=Ga
 tsby's Joint:geo:26.189277,-80.112127
END:VEVENT
BEGIN:VTIMEZONE
TZID:America/New_York
X-LIC-LOCATION:America/New_York
BEGIN:STANDARD
DTSTART:20191103T010000
TZOFFSETFROM:-0400
TZOFFSETTO:-0500
TZNAME:EST
END:STANDARD
END:VTIMEZONE
END:VCALENDAR