BEGIN:VCALENDAR
VERSION:2.0
PRODID:-//wp-events-plugin.com//7.2.3.1//EN
TZID:America/New_York
X-WR-TIMEZONE:America/New_York
BEGIN:VEVENT
UID:4214@goriverwalk.com
DTSTART;TZID=America/New_York:20180310T200000
DTEND;TZID=America/New_York:20180310T230000
DTSTAMP:20180206T201434Z
URL:https://www.goriverwalk.com/greater-fort-lauderdale-events/the-doo-wop
 -project
SUMMARY:The Doo Wop Project
DESCRIPTION:Street corner singing for a whole new generation.
ATTACH;FMTTYPE=image/jpeg:https://www.goriverwalk.com/wp-content/uploads/2
 018/02/3.-The-Doo-Wop-Project.jpg
LOCATION:Coral Springs Center for the Arts\, 2855 Coral Springs Drive\, Cor
 al Springs\, FL\, 33065\, United States
GEO:26.2664114;-80.264947
X-APPLE-STRUCTURED-LOCATION;VALUE=URI;X-ADDRESS=2855 Coral Springs Drive\, 
 Coral Springs\, FL\, 33065\, United States;X-APPLE-RADIUS=100;X-TITLE=Cora
 l Springs Center for the Arts:geo:26.2664114,-80.264947
END:VEVENT
BEGIN:VTIMEZONE
TZID:America/New_York
X-LIC-LOCATION:America/New_York
BEGIN:STANDARD
DTSTART:20171105T010000
TZOFFSETFROM:-0400
TZOFFSETTO:-0500
TZNAME:EST
END:STANDARD
END:VTIMEZONE
END:VCALENDAR