BEGIN:VCALENDAR
VERSION:2.0
PRODID:-//wp-events-plugin.com//7.2.3.1//EN
TZID:America/New_York
X-WR-TIMEZONE:America/New_York
BEGIN:VEVENT
UID:7230@goriverwalk.com
DTSTART;TZID=America/New_York:20190503T200000
DTEND;TZID=America/New_York:20190503T220000
DTSTAMP:20190410T182808Z
URL:https://www.goriverwalk.com/greater-fort-lauderdale-events/the-creatio
 n
SUMMARY:The Creation
DESCRIPTION:By Joseph Haydn
ATTACH;FMTTYPE=image/jpeg:https://www.goriverwalk.com/wp-content/uploads/2
 019/04/the-creation.jpg
CATEGORIES:Music
LOCATION:Coral Ridge Presbyterian Church\, 5555 N Federal Hwy\, Fort Lauder
 dale\, Florida\, 33308\, Florida\, United States
GEO:26.1957947;-80.11293460000002
X-APPLE-STRUCTURED-LOCATION;VALUE=URI;X-ADDRESS=5555 N Federal Hwy\, Fort L
 auderdale\, Florida\, 33308\, Florida\, United States;X-APPLE-RADIUS=100;X
 -TITLE=Coral Ridge Presbyterian Church:geo:26.1957947,-80.11293460000002
END:VEVENT
BEGIN:VTIMEZONE
TZID:America/New_York
X-LIC-LOCATION:America/New_York
BEGIN:DAYLIGHT
DTSTART:20190310T030000
TZOFFSETFROM:-0500
TZOFFSETTO:-0400
TZNAME:EDT
END:DAYLIGHT
END:VTIMEZONE
END:VCALENDAR