BEGIN:VCALENDAR
VERSION:2.0
PRODID:-//wp-events-plugin.com//7.2.3.1//EN
TZID:America/New_York
X-WR-TIMEZONE:America/New_York
BEGIN:VEVENT
UID:5123@goriverwalk.com
DTSTART;TZID=America/New_York:20180704T100000
DTEND;TZID=America/New_York:20180704T170000
DTSTAMP:20180629T161021Z
URL:https://www.goriverwalk.com/greater-fort-lauderdale-events/the-childre
 n-of-the-lotus-retreat
SUMMARY:The Children of the Lotus Retreat
DESCRIPTION:A  free "back to school" wellness event
ATTACH;FMTTYPE=image/jpeg:https://www.goriverwalk.com/wp-content/uploads/2
 018/06/children-lotus.jpg
CATEGORIES:Community
LOCATION:Miramar Multi-Complex Center\, 6700 Miramar Parkway\, Miramar\, FL
 \, 33023\, United States
GEO:25.9815506;-80.2199812
X-APPLE-STRUCTURED-LOCATION;VALUE=URI;X-ADDRESS=6700 Miramar Parkway\, Mira
 mar\, FL\, 33023\, United States;X-APPLE-RADIUS=100;X-TITLE=Miramar Multi-
 Complex Center:geo:25.9815506,-80.2199812
END:VEVENT
BEGIN:VTIMEZONE
TZID:America/New_York
X-LIC-LOCATION:America/New_York
BEGIN:DAYLIGHT
DTSTART:20180311T030000
TZOFFSETFROM:-0500
TZOFFSETTO:-0400
TZNAME:EDT
END:DAYLIGHT
END:VTIMEZONE
END:VCALENDAR