BEGIN:VCALENDAR
VERSION:2.0
PRODID:-//wp-events-plugin.com//7.2.3.1//EN
TZID:America/New_York
X-WR-TIMEZONE:America/New_York
BEGIN:VEVENT
UID:16536@goriverwalk.com
DTSTART;TZID=America/New_York:20230303T190000
DTEND;TZID=America/New_York:20230305T210000
DTSTAMP:20230228T134422Z
URL:https://www.goriverwalk.com/greater-fort-lauderdale-events/the-addams-
 family-a-new-musical-comedy
SUMMARY:The Addams Family: A New Musical Comedy
DESCRIPTION:Talented students perform
ATTACH;FMTTYPE=image/jpeg:https://www.goriverwalk.com/wp-content/uploads/2
 023/02/Kirk-Musical_500.jpg
CATEGORIES:Community,Theater
LOCATION:First Presbyterian Church of Fort Lauderdale\, 401 SE 15th Ave\, F
 ort Lauderdale\, Florida\, 33301\, United States
GEO:26.118063;-80.12893919999999
X-APPLE-STRUCTURED-LOCATION;VALUE=URI;X-ADDRESS=401 SE 15th Ave\, Fort Laud
 erdale\, Florida\, 33301\, United States;X-APPLE-RADIUS=100;X-TITLE=First 
 Presbyterian Church of Fort Lauderdale:geo:26.118063,-80.12893919999999
END:VEVENT
BEGIN:VTIMEZONE
TZID:America/New_York
X-LIC-LOCATION:America/New_York
BEGIN:STANDARD
DTSTART:20221106T010000
TZOFFSETFROM:-0400
TZOFFSETTO:-0500
TZNAME:EST
END:STANDARD
END:VTIMEZONE
END:VCALENDAR