BEGIN:VCALENDAR
VERSION:2.0
PRODID:-//wp-events-plugin.com//7.2.3.1//EN
TZID:America/New_York
X-WR-TIMEZONE:America/New_York
BEGIN:VEVENT
UID:1434@goriverwalk.com
DTSTART;TZID=America/New_York:20160220T090000
DTEND;TZID=America/New_York:20160220T150000
DTSTAMP:20160105T203445Z
URL:https://www.goriverwalk.com/greater-fort-lauderdale-events/the-2016-se
 cret-garden-tour-of-fort-lauderdale-presented-by-fort-lauderdale-garden-cl
 ub-inc
SUMMARY:"The 2016 Secret Garden Tour of Fort Lauderdale" presented by Fort 
 Lauderdale Garden Club\, Inc.
DESCRIPTION:Each garden offers an opportunity to enjoy the splendor of sout
 h Florida gardening at its best.
ATTACH;FMTTYPE=image/jpeg:https://www.goriverwalk.com/wp-content/uploads/2
 016/01/FLGC-2016-Secret-Garden-Tour1.jpg
CATEGORIES:Art,Hobby
END:VEVENT
BEGIN:VTIMEZONE
TZID:America/New_York
X-LIC-LOCATION:America/New_York
BEGIN:STANDARD
DTSTART:20151101T010000
TZOFFSETFROM:-0400
TZOFFSETTO:-0500
TZNAME:EST
END:STANDARD
END:VTIMEZONE
END:VCALENDAR