BEGIN:VCALENDAR
VERSION:2.0
PRODID:-//wp-events-plugin.com//7.2.3.1//EN
TZID:America/New_York
X-WR-TIMEZONE:America/New_York
BEGIN:VEVENT
UID:6759@goriverwalk.com
DTSTART;TZID=America/New_York:20190207T173000
DTEND;TZID=America/New_York:20190207T193000
DTSTAMP:20190117T195537Z
URL:https://www.goriverwalk.com/greater-fort-lauderdale-events/take-a-brea
 k-thursdays-2
SUMMARY:“Take A Break Thursdays”
DESCRIPTION:Progressive Night of Shopping and Charity
ATTACH;FMTTYPE=image/jpeg:https://www.goriverwalk.com/wp-content/uploads/2
 019/01/The_Galleria_-_Take_A_Break_Thursdays_700x700.jpg
CATEGORIES:Community,Food,Fundraiser
LOCATION:The Galleria Mall\, 2414 E Sunrise Boulevard\, Fort Lauderdale\, F
 lorida\, United States
GEO:26.137129;-80.11343099999999
X-APPLE-STRUCTURED-LOCATION;VALUE=URI;X-ADDRESS=2414 E Sunrise Boulevard\, 
 Fort Lauderdale\, Florida\, United States;X-APPLE-RADIUS=100;X-TITLE=The G
 alleria Mall:geo:26.137129,-80.11343099999999
END:VEVENT
BEGIN:VTIMEZONE
TZID:America/New_York
X-LIC-LOCATION:America/New_York
BEGIN:STANDARD
DTSTART:20181104T010000
TZOFFSETFROM:-0400
TZOFFSETTO:-0500
TZNAME:EST
END:STANDARD
END:VTIMEZONE
END:VCALENDAR