BEGIN:VCALENDAR
VERSION:2.0
PRODID:-//wp-events-plugin.com//7.2.3.1//EN
TZID:America/New_York
X-WR-TIMEZONE:America/New_York
BEGIN:VEVENT
UID:4971@goriverwalk.com
DTSTART;TZID=America/New_York:20180805T140000
DTEND;TZID=America/New_York:20180805T163000
DTSTAMP:20180607T155114Z
URL:https://www.goriverwalk.com/greater-fort-lauderdale-events/symphony-of
 -the-americas-summerfest-3
SUMMARY:Symphony of the Americas Summerfest
DESCRIPTION:Musical Program Two
ATTACH;FMTTYPE=image/jpeg:https://www.goriverwalk.com/wp-content/uploads/2
 018/06/Sea-Symphony-002.jpg
CATEGORIES:Cultural,Music
LOCATION:Sunrise Civic Center\, 10610 W. Oakland Park Blvd.\, Sunrise\, FL\
 , 33351\, United States
GEO:26.167506;-80.289492
X-APPLE-STRUCTURED-LOCATION;VALUE=URI;X-ADDRESS=10610 W. Oakland Park Blvd.
 \, Sunrise\, FL\, 33351\, United States;X-APPLE-RADIUS=100;X-TITLE=Sunrise
  Civic Center:geo:26.167506,-80.289492
END:VEVENT
BEGIN:VTIMEZONE
TZID:America/New_York
X-LIC-LOCATION:America/New_York
BEGIN:DAYLIGHT
DTSTART:20180311T030000
TZOFFSETFROM:-0500
TZOFFSETTO:-0400
TZNAME:EDT
END:DAYLIGHT
END:VTIMEZONE
END:VCALENDAR