BEGIN:VCALENDAR
VERSION:2.0
PRODID:-//wp-events-plugin.com//7.2.3.1//EN
TZID:America/New_York
X-WR-TIMEZONE:America/New_York
BEGIN:VEVENT
UID:15369@goriverwalk.com
DTSTART;TZID=America/New_York:20221112T190000
DTEND;TZID=America/New_York:20221112T220000
DTSTAMP:20221018T203337Z
URL:https://www.goriverwalk.com/greater-fort-lauderdale-events/symphony-in
 -lights-at-gulfstream-park-village
SUMMARY:Symphony in Lights at Gulfstream Park Village
DESCRIPTION:Kick off for the seasonal lights display
ATTACH;FMTTYPE=image/jpeg:https://www.goriverwalk.com/wp-content/uploads/2
 022/10/sy.jpg
CATEGORIES:Children,Cultural,Holiday
LOCATION:Gulfstream Park Village\, 901 S. Federal Hwy\, Hallandale Beach\, 
 FL\, 33009\, Broward County\, United States
X-APPLE-STRUCTURED-LOCATION;VALUE=URI;X-ADDRESS=901 S. Federal Hwy\, Hallan
 dale Beach\, FL\, 33009\, Broward County\, United States;X-APPLE-RADIUS=10
 0;X-TITLE=Gulfstream Park Village:geo:0,0
END:VEVENT
BEGIN:VTIMEZONE
TZID:America/New_York
X-LIC-LOCATION:America/New_York
BEGIN:STANDARD
DTSTART:20221106T010000
TZOFFSETFROM:-0400
TZOFFSETTO:-0500
TZNAME:EST
END:STANDARD
END:VTIMEZONE
END:VCALENDAR