BEGIN:VCALENDAR
VERSION:2.0
PRODID:-//wp-events-plugin.com//7.2.3.1//EN
TZID:America/New_York
X-WR-TIMEZONE:America/New_York
BEGIN:VEVENT
UID:6913@goriverwalk.com
DTSTART;TZID=America/New_York:20190308T071500
DTEND;TZID=America/New_York:20190308T140000
DTSTAMP:20190212T173425Z
URL:https://www.goriverwalk.com/greater-fort-lauderdale-events/swing-for-k
 ids-sake
SUMMARY:Swing For Kids' Sake
DESCRIPTION:With NFL greats Shawn Wooden and Ki-Jana Carter
ATTACH;FMTTYPE=image/jpeg:https://www.goriverwalk.com/wp-content/uploads/2
 019/02/SwingIcon2.jpg
CATEGORIES:Fundraiser
LOCATION:Weston Hills Country Club\, 2600 Country Club Way\, Weston\, Flori
 da\, 33332\, United States
GEO:26.0927065;-80.39387339999996
X-APPLE-STRUCTURED-LOCATION;VALUE=URI;X-ADDRESS=2600 Country Club Way\, Wes
 ton\, Florida\, 33332\, United States;X-APPLE-RADIUS=100;X-TITLE=Weston Hi
 lls Country Club:geo:26.0927065,-80.39387339999996
END:VEVENT
BEGIN:VTIMEZONE
TZID:America/New_York
X-LIC-LOCATION:America/New_York
BEGIN:STANDARD
DTSTART:20181104T010000
TZOFFSETFROM:-0400
TZOFFSETTO:-0500
TZNAME:EST
END:STANDARD
END:VTIMEZONE
END:VCALENDAR