BEGIN:VCALENDAR
VERSION:2.0
PRODID:-//wp-events-plugin.com//7.2.3.1//EN
TZID:America/New_York
X-WR-TIMEZONE:America/New_York
BEGIN:VEVENT
UID:11170@goriverwalk.com
DTSTART;TZID=America/New_York:20210526T194500
DTEND;TZID=America/New_York:20210526T213000
DTSTAMP:20210507T202639Z
URL:https://www.goriverwalk.com/greater-fort-lauderdale-events/super-full-
 moon-rise-kundalini-sound-healing-ocean-vibes
SUMMARY:Super Full Moon Rise Kundalini Sound Healing Ocean Vibes
DESCRIPTION:Open to all levels
ATTACH;FMTTYPE=image/jpeg:https://www.goriverwalk.com/wp-content/uploads/2
 021/05/Kundalini.jpg
CATEGORIES:Community,Health,Hobby
LOCATION:Fort Lauderdale Beach\, 870 N Ft Lauderdale Beach Blvd\, Fort Laud
 erdale\, FL\, 33304\, United States
X-APPLE-STRUCTURED-LOCATION;VALUE=URI;X-ADDRESS=870 N Ft Lauderdale Beach B
 lvd\, Fort Lauderdale\, FL\, 33304\, United States;X-APPLE-RADIUS=100;X-TI
 TLE=Fort Lauderdale Beach:geo:0,0
END:VEVENT
BEGIN:VTIMEZONE
TZID:America/New_York
X-LIC-LOCATION:America/New_York
BEGIN:DAYLIGHT
DTSTART:20210314T030000
TZOFFSETFROM:-0500
TZOFFSETTO:-0400
TZNAME:EDT
END:DAYLIGHT
END:VTIMEZONE
END:VCALENDAR