BEGIN:VCALENDAR
VERSION:2.0
PRODID:-//wp-events-plugin.com//7.2.3.1//EN
TZID:America/New_York
X-WR-TIMEZONE:America/New_York
BEGIN:VEVENT
UID:5554@goriverwalk.com
DTSTART;TZID=America/New_York:20180811T130000
DTEND;TZID=America/New_York:20180812T130000
DTSTAMP:20180807T173325Z
URL:https://www.goriverwalk.com/greater-fort-lauderdale-events/sunrise-mon
 ster-jam-takes-center-stage-at-bbt-center
SUMMARY:Sunrise Monster Jam Takes Center Stage at BB&amp\;T Center
DESCRIPTION:The new season will bring dirt into the BB&amp\;T Center for th
 e first time
ATTACH;FMTTYPE=image/jpeg:https://www.goriverwalk.com/wp-content/uploads/2
 017/11/Default-calendar.jpg
CATEGORIES:Hobby
LOCATION:BB&T Center \, 1 Panther Parkway \, Sunrise\, FL\, 33323\, United 
 States
GEO:26.158468;-80.325554
X-APPLE-STRUCTURED-LOCATION;VALUE=URI;X-ADDRESS=1 Panther Parkway \, Sunris
 e\, FL\, 33323\, United States;X-APPLE-RADIUS=100;X-TITLE=BB&T Center :geo
 :26.158468,-80.325554
END:VEVENT
BEGIN:VTIMEZONE
TZID:America/New_York
X-LIC-LOCATION:America/New_York
BEGIN:DAYLIGHT
DTSTART:20180311T030000
TZOFFSETFROM:-0500
TZOFFSETTO:-0400
TZNAME:EDT
END:DAYLIGHT
END:VTIMEZONE
END:VCALENDAR