BEGIN:VCALENDAR
VERSION:2.0
PRODID:-//wp-events-plugin.com//7.2.3.1//EN
TZID:America/New_York
X-WR-TIMEZONE:America/New_York
BEGIN:VEVENT
UID:18453@goriverwalk.com
DTSTART;TZID=America/New_York:20240711T110000
DTEND;TZID=America/New_York:20240711T190000
DTSTAMP:20240701T161510Z
URL:https://www.goriverwalk.com/greater-fort-lauderdale-events/sunny-days-
 starry-nights-free-first-thursday-2-2024-07-04
SUMMARY:Sunny Days/Starry Nights: Free First Thursday
DESCRIPTION:Free admission\, All Day Happy Hour and Mini Muse - free childr
 en's drop in art-class
ATTACH;FMTTYPE=image/jpeg:https://www.goriverwalk.com/wp-content/uploads/2
 023/01/Sunny-Days-Starry-Nights.png
CATEGORIES:Art
LOCATION:NSU Art Museum Fort Lauderdale\, 1 East Las Olas Boulevard\, Fort 
 Lauderdale\, FL\, 33301\, United States
GEO:26.1198346;-80.14277179999999
X-APPLE-STRUCTURED-LOCATION;VALUE=URI;X-ADDRESS=1 East Las Olas Boulevard\,
  Fort Lauderdale\, FL\, 33301\, United States;X-APPLE-RADIUS=100;X-TITLE=N
 SU Art Museum Fort Lauderdale:geo:26.1198346,-80.14277179999999
END:VEVENT
BEGIN:VTIMEZONE
TZID:America/New_York
X-LIC-LOCATION:America/New_York
BEGIN:DAYLIGHT
DTSTART:20240310T030000
TZOFFSETFROM:-0500
TZOFFSETTO:-0400
TZNAME:EDT
END:DAYLIGHT
END:VTIMEZONE
END:VCALENDAR