BEGIN:VCALENDAR
VERSION:2.0
PRODID:-//wp-events-plugin.com//7.2.3.1//EN
TZID:America/New_York
X-WR-TIMEZONE:America/New_York
BEGIN:VEVENT
UID:5739@goriverwalk.com
DTSTART;TZID=America/New_York:20180929T180000
DTEND;TZID=America/New_York:20180929T220000
DTSTAMP:20180910T181814Z
URL:https://www.goriverwalk.com/greater-fort-lauderdale-events/strokes-of-
 paradise-encore
SUMMARY:Strokes of Paradise: Encore
DESCRIPTION:Closing reception
ATTACH;FMTTYPE=image/jpeg:https://www.goriverwalk.com/wp-content/uploads/2
 018/09/SEPTAW18SM.png
CATEGORIES:Art
LOCATION:Art Attack\, 807 NE 4th Ave\, Fort Lauderdale\, FL\, 33304\, Unite
 d States
GEO:26.1336642;-80.14026330000002
X-APPLE-STRUCTURED-LOCATION;VALUE=URI;X-ADDRESS=807 NE 4th Ave\, Fort Laude
 rdale\, FL\, 33304\, United States;X-APPLE-RADIUS=100;X-TITLE=Art Attack:g
 eo:26.1336642,-80.14026330000002
END:VEVENT
BEGIN:VTIMEZONE
TZID:America/New_York
X-LIC-LOCATION:America/New_York
BEGIN:DAYLIGHT
DTSTART:20180311T030000
TZOFFSETFROM:-0500
TZOFFSETTO:-0400
TZNAME:EDT
END:DAYLIGHT
END:VTIMEZONE
END:VCALENDAR