BEGIN:VCALENDAR
VERSION:2.0
PRODID:-//wp-events-plugin.com//7.2.3.1//EN
TZID:America/New_York
X-WR-TIMEZONE:America/New_York
BEGIN:VEVENT
UID:5176@goriverwalk.com
DTSTART;TZID=America/New_York:20180717T180000
DTEND;TZID=America/New_York:20180717T200000
DTSTAMP:20180711T182455Z
URL:https://www.goriverwalk.com/greater-fort-lauderdale-events/stock-the-p
 antry-summer-social
SUMMARY:Stock the Pantry Summer Social
DESCRIPTION:Supporting youth who are aging out of foster care
ATTACH;FMTTYPE=image/jpeg:https://www.goriverwalk.com/wp-content/uploads/2
 018/07/Summer-Social-Pic.jpg
CATEGORIES:Fundraiser
LOCATION:Stache Drinking Den + Coffee Bar\, 109 Southwest 2nd Avenue\, Fort
  Lauderdale \, Florida\, 33301\, United States
GEO:26.1212756;-80.14607810000001
X-APPLE-STRUCTURED-LOCATION;VALUE=URI;X-ADDRESS=109 Southwest 2nd Avenue\, 
 Fort Lauderdale \, Florida\, 33301\, United States;X-APPLE-RADIUS=100;X-TI
 TLE=Stache Drinking Den + Coffee Bar:geo:26.1212756,-80.14607810000001
END:VEVENT
BEGIN:VTIMEZONE
TZID:America/New_York
X-LIC-LOCATION:America/New_York
BEGIN:DAYLIGHT
DTSTART:20180311T030000
TZOFFSETFROM:-0500
TZOFFSETTO:-0400
TZNAME:EDT
END:DAYLIGHT
END:VTIMEZONE
END:VCALENDAR