BEGIN:VCALENDAR
VERSION:2.0
PRODID:-//wp-events-plugin.com//7.2.3.1//EN
TZID:America/New_York
X-WR-TIMEZONE:America/New_York
BEGIN:VEVENT
UID:6945@goriverwalk.com
DTSTART;TZID=America/New_York:20190228T180000
DTEND;TZID=America/New_York:20190228T200000
DTSTAMP:20190218T184530Z
URL:https://www.goriverwalk.com/greater-fort-lauderdale-events/state-of-th
 e-city-address
SUMMARY:State of the City Address
DESCRIPTION:And Citizens Recognition Awards
ATTACH;FMTTYPE=image/jpeg:https://www.goriverwalk.com/wp-content/uploads/2
 019/02/City-SOC.jpg
CATEGORIES:Business,Community
LOCATION:NSU Art Museum Fort Lauderdale\, 1 East Las Olas Boulevard\, Fort 
 Lauderdale\, FL\, 33301\, United States
GEO:26.119835;-80.142769
X-APPLE-STRUCTURED-LOCATION;VALUE=URI;X-ADDRESS=1 East Las Olas Boulevard\,
  Fort Lauderdale\, FL\, 33301\, United States;X-APPLE-RADIUS=100;X-TITLE=N
 SU Art Museum Fort Lauderdale:geo:26.119835,-80.142769
END:VEVENT
BEGIN:VTIMEZONE
TZID:America/New_York
X-LIC-LOCATION:America/New_York
BEGIN:STANDARD
DTSTART:20181104T010000
TZOFFSETFROM:-0400
TZOFFSETTO:-0500
TZNAME:EST
END:STANDARD
END:VTIMEZONE
END:VCALENDAR