BEGIN:VCALENDAR
VERSION:2.0
PRODID:-//wp-events-plugin.com//7.2.3.1//EN
TZID:America/New_York
X-WR-TIMEZONE:America/New_York
BEGIN:VEVENT
UID:17848@goriverwalk.com
DTSTART;TZID=America/New_York:20231026T093000
DTEND;TZID=America/New_York:20231026T110000
DTSTAMP:20231005T215148Z
URL:https://www.goriverwalk.com/greater-fort-lauderdale-events/state-of-th
 e-arts
SUMMARY:State of the Arts
DESCRIPTION:Featuring updates on current and upcoming projects
ATTACH;FMTTYPE=image/jpeg:https://www.goriverwalk.com/wp-content/uploads/2
 023/10/State-of-the-arts-e1696541375606.jpg
CATEGORIES:Art,Cultural
END:VEVENT
BEGIN:VTIMEZONE
TZID:America/New_York
X-LIC-LOCATION:America/New_York
BEGIN:DAYLIGHT
DTSTART:20230312T030000
TZOFFSETFROM:-0500
TZOFFSETTO:-0400
TZNAME:EDT
END:DAYLIGHT
END:VTIMEZONE
END:VCALENDAR