BEGIN:VCALENDAR
VERSION:2.0
PRODID:-//wp-events-plugin.com//7.2.3.1//EN
TZID:America/New_York
X-WR-TIMEZONE:America/New_York
BEGIN:VEVENT
UID:5092@goriverwalk.com
DTSTART;TZID=America/New_York:20180801T193000
DTEND;TZID=America/New_York:20180801T220000
DTSTAMP:20180626T194441Z
URL:https://www.goriverwalk.com/greater-fort-lauderdale-events/star-trek-i
 i-the-wrath-of-khan-2
SUMMARY:Star Trek II:  The Wrath of Khan
DESCRIPTION:Considered one of the best Star Trek movies ever!
ATTACH;FMTTYPE=image/jpeg:https://www.goriverwalk.com/wp-content/uploads/2
 018/06/star-trek.jpg
CATEGORIES:Film
LOCATION:Silverspot Cinema\, 4441 Lyons Road\, Coconut Creek\, FL\, 33073\,
  United States
GEO:26.2827506;-80.18872699999997
X-APPLE-STRUCTURED-LOCATION;VALUE=URI;X-ADDRESS=4441 Lyons Road\, Coconut C
 reek\, FL\, 33073\, United States;X-APPLE-RADIUS=100;X-TITLE=Silverspot Ci
 nema:geo:26.2827506,-80.18872699999997
END:VEVENT
BEGIN:VTIMEZONE
TZID:America/New_York
X-LIC-LOCATION:America/New_York
BEGIN:DAYLIGHT
DTSTART:20180311T030000
TZOFFSETFROM:-0500
TZOFFSETTO:-0400
TZNAME:EDT
END:DAYLIGHT
END:VTIMEZONE
END:VCALENDAR