BEGIN:VCALENDAR
VERSION:2.0
PRODID:-//wp-events-plugin.com//7.2.3.1//EN
TZID:America/New_York
X-WR-TIMEZONE:America/New_York
BEGIN:VEVENT
UID:22585@goriverwalk.com
DTSTART;TZID=America/New_York:20260313T163000
DTEND;TZID=America/New_York:20260313T170000
DTSTAMP:20260303T142634Z
URL:https://www.goriverwalk.com/greater-fort-lauderdale-events/st-patricks
 -parade-and-festival-street-striping
SUMMARY:St. Patrick's Parade and Festival - Street Striping
DESCRIPTION:Painting the street green for St. Patrick's Day!
ATTACH;FMTTYPE=image/jpeg:https://www.goriverwalk.com/wp-content/uploads/2
 026/03/StPats.png
CATEGORIES:Cocktail,Community,Cultural,Free,Holiday
LOCATION:Tunnel Top Plaza\, Las Olas Blvd and 6th St\, Fort Lauderdale\, FL
 \, 33301\, United States
X-APPLE-STRUCTURED-LOCATION;VALUE=URI;X-ADDRESS=Las Olas Blvd and 6th St\, 
 Fort Lauderdale\, FL\, 33301\, United States;X-APPLE-RADIUS=100;X-TITLE=Tu
 nnel Top Plaza:geo:0,0
END:VEVENT
BEGIN:VTIMEZONE
TZID:America/New_York
X-LIC-LOCATION:America/New_York
BEGIN:DAYLIGHT
DTSTART:20260308T030000
TZOFFSETFROM:-0500
TZOFFSETTO:-0400
TZNAME:EDT
END:DAYLIGHT
END:VTIMEZONE
END:VCALENDAR