BEGIN:VCALENDAR
VERSION:2.0
PRODID:-//wp-events-plugin.com//7.2.3.1//EN
TZID:America/New_York
X-WR-TIMEZONE:America/New_York
BEGIN:VEVENT
UID:7398@goriverwalk.com
DTSTART;TZID=America/New_York:20190520T173000
DTEND;TZID=America/New_York:20190520T193000
DTSTAMP:20190513T172915Z
URL:https://www.goriverwalk.com/greater-fort-lauderdale-events/spring-get-
 downtown-2
SUMMARY:Spring Get Downtown
DESCRIPTION:Are you a Riverwalk Member?  If so\, join us for the Spring Ge
 t Downtown on May 20th. Click here for more details.
ATTACH;FMTTYPE=image/jpeg:https://www.goriverwalk.com/wp-content/uploads/2
 017/04/300x300-GDT-logo.jpg
CATEGORIES:Business,Cocktail,Community,Riverwalk Front Page,Riverwalk
 Happenings
LOCATION:YOLO\, 333 East Las Olas Blvd.\, Fort Lauderdale\, FL\, 33301\, So
 utheast\, United States
GEO:26.1196495;-80.13969889999998
X-APPLE-STRUCTURED-LOCATION;VALUE=URI;X-ADDRESS=333 East Las Olas Blvd.\, F
 ort Lauderdale\, FL\, 33301\, Southeast\, United States;X-APPLE-RADIUS=100
 ;X-TITLE=YOLO:geo:26.1196495,-80.13969889999998
END:VEVENT
BEGIN:VTIMEZONE
TZID:America/New_York
X-LIC-LOCATION:America/New_York
BEGIN:DAYLIGHT
DTSTART:20190310T030000
TZOFFSETFROM:-0500
TZOFFSETTO:-0400
TZNAME:EDT
END:DAYLIGHT
END:VTIMEZONE
END:VCALENDAR