BEGIN:VCALENDAR
VERSION:2.0
PRODID:-//wp-events-plugin.com//7.2.3.1//EN
TZID:America/New_York
X-WR-TIMEZONE:America/New_York
BEGIN:VEVENT
UID:22831@goriverwalk.com
DTSTART;TZID=America/New_York:20260329T130000
DTEND;TZID=America/New_York:20260329T160000
DTSTAMP:20260325T204825Z
URL:https://www.goriverwalk.com/greater-fort-lauderdale-events/spring-egg-
 hunts-12
SUMMARY:Spring Egg Hunts
DESCRIPTION:Enjoy spring egg hunts at several of our parks! 
ATTACH;FMTTYPE=image/jpeg:https://www.goriverwalk.com/wp-content/uploads/2
 026/03/Easter-2026.jpg
CATEGORIES:Children,Community,Free,Holiday
LOCATION:Riverland Park\, 950 SW 27th Avenue\, Fort Lauderdale\, FL\, 33312
 \, United States
GEO:26.1101924;-80.17666839999998
X-APPLE-STRUCTURED-LOCATION;VALUE=URI;X-ADDRESS=950 SW 27th Avenue\, Fort L
 auderdale\, FL\, 33312\, United States;X-APPLE-RADIUS=100;X-TITLE=Riverlan
 d Park:geo:26.1101924,-80.17666839999998
END:VEVENT
BEGIN:VTIMEZONE
TZID:America/New_York
X-LIC-LOCATION:America/New_York
BEGIN:DAYLIGHT
DTSTART:20260308T030000
TZOFFSETFROM:-0500
TZOFFSETTO:-0400
TZNAME:EDT
END:DAYLIGHT
END:VTIMEZONE
END:VCALENDAR