BEGIN:VCALENDAR
VERSION:2.0
PRODID:-//wp-events-plugin.com//7.2.3.1//EN
TZID:America/New_York
X-WR-TIMEZONE:America/New_York
BEGIN:VEVENT
UID:17351@goriverwalk.com
DTSTART;TZID=America/New_York:20231028T100000
DTEND;TZID=America/New_York:20231029T170000
DTSTAMP:20230830T211009Z
URL:https://www.goriverwalk.com/greater-fort-lauderdale-events/spooktacula
 r-science-tricks-and-treats-weekend
SUMMARY:Spooktacular Science Tricks And Treats Weekend!
DESCRIPTION:Calling all ghouls and goblins!
ATTACH;FMTTYPE=image/jpeg:https://www.goriverwalk.com/wp-content/uploads/2
 023/08/Spooktacular-Science-Tile.png
CATEGORIES:Children
LOCATION:Museum of Discovery and Science\, 401 SW 2nd Street\, Fort Lauderd
 ale\, FL\, 33312\, United States
GEO:26.120718;-80.14800500000001
X-APPLE-STRUCTURED-LOCATION;VALUE=URI;X-ADDRESS=401 SW 2nd Street\, Fort La
 uderdale\, FL\, 33312\, United States;X-APPLE-RADIUS=100;X-TITLE=Museum of
  Discovery and Science:geo:26.120718,-80.14800500000001
END:VEVENT
BEGIN:VTIMEZONE
TZID:America/New_York
X-LIC-LOCATION:America/New_York
BEGIN:DAYLIGHT
DTSTART:20230312T030000
TZOFFSETFROM:-0500
TZOFFSETTO:-0400
TZNAME:EDT
END:DAYLIGHT
END:VTIMEZONE
END:VCALENDAR