BEGIN:VCALENDAR
VERSION:2.0
PRODID:-//wp-events-plugin.com//7.2.3.1//EN
TZID:America/New_York
X-WR-TIMEZONE:America/New_York
BEGIN:VEVENT
UID:6673@goriverwalk.com
DTSTART;TZID=America/New_York:20190104T203000
DTEND;TZID=America/New_York:20190104T220000
DTSTAMP:20190102T150655Z
URL:https://www.goriverwalk.com/greater-fort-lauderdale-events/spill-the-b
 eans-comedy-show-4
SUMMARY:Spill the Beans Comedy Show
DESCRIPTION:Starring Murray Valeriano
ATTACH;FMTTYPE=image/jpeg:https://www.goriverwalk.com/wp-content/uploads/2
 018/12/IMG_6608-copy-1.jpg
CATEGORIES:Comedy
LOCATION:Cafe Collective\, 100 N Federal Highway\, Fort Lauderdale\, FL\, 3
 3301\, United States
GEO:26.122887;-80.136665
X-APPLE-STRUCTURED-LOCATION;VALUE=URI;X-ADDRESS=100 N Federal Highway\, For
 t Lauderdale\, FL\, 33301\, United States;X-APPLE-RADIUS=100;X-TITLE=Cafe 
 Collective:geo:26.122887,-80.136665
END:VEVENT
BEGIN:VTIMEZONE
TZID:America/New_York
X-LIC-LOCATION:America/New_York
BEGIN:STANDARD
DTSTART:20181104T010000
TZOFFSETFROM:-0400
TZOFFSETTO:-0500
TZNAME:EST
END:STANDARD
END:VTIMEZONE
END:VCALENDAR