BEGIN:VCALENDAR
VERSION:2.0
PRODID:-//wp-events-plugin.com//7.2.3.1//EN
TZID:America/New_York
X-WR-TIMEZONE:America/New_York
BEGIN:VEVENT
UID:22779@goriverwalk.com
DTSTART;TZID=America/New_York:20260331T173000
DTEND;TZID=America/New_York:20260331T193000
DTSTAMP:20260325T143541Z
URL:https://www.goriverwalk.com/greater-fort-lauderdale-events/sparkle-for
 -a-cause-supporting-miss-arc-broward
SUMMARY:Sparkle for a Cause
DESCRIPTION:Join us for a special evening at Daoud’s Fine Jewelry in supp
 ort of the Miss Arc Broward Pageant\, an inspiring program that empowers y
 oung women with disabilities to build confidence\, leadership skills\, and
  lifelong friendships. Enjoy champagne\, light bites\, and a wonderful nig
 ht of community while supporting an incredible cause. Enter to win a stunn
 ing diamond necklace donated by Daoud’s!\n\nA portion of jewelry sales d
 uring the event will benefit Arc Broward and the Miss Arc Broward Pageant.
  Learn more about the Miss Arc Broward Pageant at https://arcbroward.com/m
 iss-arc-broward/ Admission is free\, but please RSVP by March 25th to rese
 rve your spot jphan@arcbroward.com or 954-786-9400
ATTACH;FMTTYPE=image/jpeg:https://www.goriverwalk.com/wp-content/uploads/2
 026/03/daouds-700x700-1.jpg
CATEGORIES:Community,Free,Fundraiser
LOCATION:Daoud’s Fine Jewelry\, 2473 E Sunrise Blvd\, Fort Lauderdale\, F
 L\, 33304\, United States
X-APPLE-STRUCTURED-LOCATION;VALUE=URI;X-ADDRESS=2473 E Sunrise Blvd\, Fort 
 Lauderdale\, FL\, 33304\, United States;X-APPLE-RADIUS=100;X-TITLE=Daoud
 ’s Fine Jewelry:geo:0,0
END:VEVENT
BEGIN:VTIMEZONE
TZID:America/New_York
X-LIC-LOCATION:America/New_York
BEGIN:DAYLIGHT
DTSTART:20260308T030000
TZOFFSETFROM:-0500
TZOFFSETTO:-0400
TZNAME:EDT
END:DAYLIGHT
END:VTIMEZONE
END:VCALENDAR