BEGIN:VCALENDAR
VERSION:2.0
PRODID:-//wp-events-plugin.com//7.2.3.1//EN
TZID:America/New_York
X-WR-TIMEZONE:America/New_York
BEGIN:VEVENT
UID:16091@goriverwalk.com
DTSTART;TZID=America/New_York:20230112T000000
DTEND;TZID=America/New_York:20230116T000000
DTSTAMP:20230110T171334Z
URL:https://www.goriverwalk.com/greater-fort-lauderdale-events/southwest-r
 anches-country-fair
SUMMARY:Southwest Ranches Country Fair
DESCRIPTION:Fun for the whole family
ATTACH;FMTTYPE=image/jpeg:https://www.goriverwalk.com/wp-content/uploads/2
 023/01/SOUTHWEST-RANCHES.jpg
CATEGORIES:Art,Children,Community,Cultural,Festival,Food,Music
LOCATION:Southwest Ranches Meadow Reserve Park\, 16290 Griffin Rd \, Southw
 est Ranches\, FL\, 33331\, United States
X-APPLE-STRUCTURED-LOCATION;VALUE=URI;X-ADDRESS=16290 Griffin Rd \, Southwe
 st Ranches\, FL\, 33331\, United States;X-APPLE-RADIUS=100;X-TITLE=Southwe
 st Ranches Meadow Reserve Park:geo:0,0
END:VEVENT
BEGIN:VTIMEZONE
TZID:America/New_York
X-LIC-LOCATION:America/New_York
BEGIN:STANDARD
DTSTART:20221106T010000
TZOFFSETFROM:-0400
TZOFFSETTO:-0500
TZNAME:EST
END:STANDARD
END:VTIMEZONE
END:VCALENDAR