BEGIN:VCALENDAR
VERSION:2.0
PRODID:-//wp-events-plugin.com//7.2.3.1//EN
TZID:America/New_York
X-WR-TIMEZONE:America/New_York
BEGIN:VEVENT
UID:8518@goriverwalk.com
DTSTART;TZID=America/New_York:20191123T100000
DTEND;TZID=America/New_York:20191123T160000
DTSTAMP:20191025T192248Z
URL:https://www.goriverwalk.com/greater-fort-lauderdale-events/south-flori
 da-kids-got-talent
SUMMARY:“South Florida Kid’s got Talent”
DESCRIPTION:Come hear talented kids!
ATTACH;FMTTYPE=image/jpeg:https://www.goriverwalk.com/wp-content/uploads/2
 019/04/tri-rail.jpg
CATEGORIES:Art,Community,Cultural,Music,Theater
LOCATION:The Galleria at Fort Lauderdale\, 2414 E Sunrise Blvd\, Fort Laude
 rdale\, FL\, 33304\, Florida\, United States
X-APPLE-STRUCTURED-LOCATION;VALUE=URI;X-ADDRESS=2414 E Sunrise Blvd\, Fort 
 Lauderdale\, FL\, 33304\, Florida\, United States;X-APPLE-RADIUS=100;X-TIT
 LE=The Galleria at Fort Lauderdale:geo:0,0
END:VEVENT
BEGIN:VTIMEZONE
TZID:America/New_York
X-LIC-LOCATION:America/New_York
BEGIN:STANDARD
DTSTART:20191103T010000
TZOFFSETFROM:-0400
TZOFFSETTO:-0500
TZNAME:EST
END:STANDARD
END:VTIMEZONE
END:VCALENDAR