BEGIN:VCALENDAR
VERSION:2.0
PRODID:-//wp-events-plugin.com//7.2.3.1//EN
TZID:America/New_York
X-WR-TIMEZONE:America/New_York
BEGIN:VEVENT
UID:2014@goriverwalk.com
DTSTART;TZID=America/New_York:20160604T000000
DTEND;TZID=America/New_York:20160604T000000
DTSTAMP:20160222T135231Z
URL:https://www.goriverwalk.com/greater-fort-lauderdale-events/south-flori
 da-heroes-6k
SUMMARY:South Florida Heroes 6K
DESCRIPTION:These races inspire communities to support recovery and also to
  live healthy\, active lifestyles.
ATTACH;FMTTYPE=image/jpeg:https://www.goriverwalk.com/wp-content/uploads/2
 015/12/Default-calendar-1.jpg
CATEGORIES:Health
LOCATION:Huizenga Plaza\, 32 East Las Olas Boulevard\, Fort Lauderdale\, FL
 \, 33301\, United States
GEO:26.1193664;-80.14303430000001
X-APPLE-STRUCTURED-LOCATION;VALUE=URI;X-ADDRESS=32 East Las Olas Boulevard\
 , Fort Lauderdale\, FL\, 33301\, United States;X-APPLE-RADIUS=100;X-TITLE=
 Huizenga Plaza:geo:26.1193664,-80.14303430000001
END:VEVENT
BEGIN:VTIMEZONE
TZID:America/New_York
X-LIC-LOCATION:America/New_York
BEGIN:DAYLIGHT
DTSTART:20160313T030000
TZOFFSETFROM:-0500
TZOFFSETTO:-0400
TZNAME:EDT
END:DAYLIGHT
END:VTIMEZONE
END:VCALENDAR