BEGIN:VCALENDAR
VERSION:2.0
PRODID:-//wp-events-plugin.com//7.2.3.1//EN
TZID:America/New_York
X-WR-TIMEZONE:America/New_York
BEGIN:VEVENT
UID:5369@goriverwalk.com
DTSTART;TZID=America/New_York:20181114T104500
DTEND;TZID=America/New_York:20181114T140000
DTSTAMP:20180724T174153Z
URL:https://www.goriverwalk.com/greater-fort-lauderdale-events/south-flori
 da-business-leaders-luncheon-2
SUMMARY:South Florida Business Leaders' Luncheon
DESCRIPTION:Recognizing Peggy Nordeen
ATTACH;FMTTYPE=image/jpeg:https://www.goriverwalk.com/wp-content/uploads/2
 018/07/700by700-sfbll.jpg
CATEGORIES:Fundraiser
LOCATION:ms Zuiderdam while berthed in Port Everglades\, Port Everglades\, 
 Fort Lauderdale\, Florida\, 33316\, Broward County\, United States
GEO:26.1089915;-80.12232540000002
X-APPLE-STRUCTURED-LOCATION;VALUE=URI;X-ADDRESS=Port Everglades\, Fort Laud
 erdale\, Florida\, 33316\, Broward County\, United States;X-APPLE-RADIUS=1
 00;X-TITLE=ms Zuiderdam while berthed in Port Everglades:geo:26.1089915,-8
 0.12232540000002
END:VEVENT
BEGIN:VTIMEZONE
TZID:America/New_York
X-LIC-LOCATION:America/New_York
BEGIN:STANDARD
DTSTART:20181104T010000
TZOFFSETFROM:-0400
TZOFFSETTO:-0500
TZNAME:EST
END:STANDARD
END:VTIMEZONE
END:VCALENDAR