BEGIN:VCALENDAR
VERSION:2.0
PRODID:-//wp-events-plugin.com//7.2.3.1//EN
TZID:America/New_York
X-WR-TIMEZONE:America/New_York
BEGIN:VEVENT
UID:18788@goriverwalk.com
DTSTART;TZID=America/New_York:20240314T160000
DTEND;TZID=America/New_York:20240314T200000
DTSTAMP:20240311T194034Z
URL:https://www.goriverwalk.com/greater-fort-lauderdale-events/south-flori
 da-business-expo-conference-2024
SUMMARY:South Florida Business Expo &amp\; Conference 2024
DESCRIPTION:Put Your BUSINESS\, Your BRAND\, Your PRODUCTS & SERVICES in th
 e SPOTLIGHT
ATTACH;FMTTYPE=image/jpeg:https://www.goriverwalk.com/wp-content/uploads/2
 024/03/South-Florida-Business-Expo-Conference-2024.jpg
CATEGORIES:Business
LOCATION:Bahia Mar Resort and Yachting Center\, 801 Seabreeze Blvd\, Fort L
 auderdale\, Florida\, 33316\, Florida\, United States
X-APPLE-STRUCTURED-LOCATION;VALUE=URI;X-ADDRESS=801 Seabreeze Blvd\, Fort L
 auderdale\, Florida\, 33316\, Florida\, United States;X-APPLE-RADIUS=100;X
 -TITLE=Bahia Mar Resort and Yachting Center:geo:0,0
END:VEVENT
BEGIN:VTIMEZONE
TZID:America/New_York
X-LIC-LOCATION:America/New_York
BEGIN:DAYLIGHT
DTSTART:20240310T030000
TZOFFSETFROM:-0500
TZOFFSETTO:-0400
TZNAME:EDT
END:DAYLIGHT
END:VTIMEZONE
END:VCALENDAR