BEGIN:VCALENDAR
VERSION:2.0
PRODID:-//wp-events-plugin.com//7.2.3.1//EN
TZID:America/New_York
X-WR-TIMEZONE:America/New_York
BEGIN:VEVENT
UID:4590@goriverwalk.com
DTSTART;TZID=America/New_York:20180513T180000
DTEND;TZID=America/New_York:20180909T200000
DTSTAMP:20180626T152849Z
URL:https://www.goriverwalk.com/greater-fort-lauderdale-events/soulful-sun
 days-after-dark
SUMMARY:Soulful Sundays After Dark
DESCRIPTION:Featuring South Florida’s most highly praised singers and mus
 icians
ATTACH;FMTTYPE=image/jpeg:https://www.goriverwalk.com/wp-content/uploads/2
 018/05/Soulful-Sundays.jpg
CATEGORIES:Cultural,Music
LOCATION:Ali Cultural Arts\, 353 Martin Luther King Blvd.\, Pompano Beach\,
  FL\, 33060\, United States
GEO:26.2341894;-80.12847979999998
X-APPLE-STRUCTURED-LOCATION;VALUE=URI;X-ADDRESS=353 Martin Luther King Blvd
 .\, Pompano Beach\, FL\, 33060\, United States;X-APPLE-RADIUS=100;X-TITLE=
 Ali Cultural Arts:geo:26.2341894,-80.12847979999998
END:VEVENT
BEGIN:VTIMEZONE
TZID:America/New_York
X-LIC-LOCATION:America/New_York
BEGIN:DAYLIGHT
DTSTART:20180311T030000
TZOFFSETFROM:-0500
TZOFFSETTO:-0400
TZNAME:EDT
END:DAYLIGHT
END:VTIMEZONE
END:VCALENDAR