BEGIN:VCALENDAR
VERSION:2.0
PRODID:-//wp-events-plugin.com//7.2.3.1//EN
TZID:America/New_York
X-WR-TIMEZONE:America/New_York
BEGIN:VEVENT
UID:19760@goriverwalk.com
DTSTART;TZID=America/New_York:20241124T150000
DTEND;TZID=America/New_York:20241124T163000
DTSTAMP:20241002T184200Z
URL:https://www.goriverwalk.com/greater-fort-lauderdale-events/songfest-br
 oward
SUMMARY:Songfest Broward
DESCRIPTION:He Loves Me… She Loves Me Not\, Passion\, betrayal\, and unre
 quited love\n
ATTACH;FMTTYPE=image/jpeg:https://www.goriverwalk.com/wp-content/uploads/2
 024/09/Songfest-1.jpg
CATEGORIES:Music
LOCATION:Center for Spiritual Living\, 4849 Dixie Highway\, Oakland Park\, 
 FLORIDA\, 33334\, FLORIDA\, United States
X-APPLE-STRUCTURED-LOCATION;VALUE=URI;X-ADDRESS=4849 Dixie Highway\, Oaklan
 d Park\, FLORIDA\, 33334\, FLORIDA\, United States;X-APPLE-RADIUS=100;X-TI
 TLE=Center for Spiritual Living:geo:0,0
END:VEVENT
BEGIN:VTIMEZONE
TZID:America/New_York
X-LIC-LOCATION:America/New_York
BEGIN:STANDARD
DTSTART:20241103T010000
TZOFFSETFROM:-0400
TZOFFSETTO:-0500
TZNAME:EST
END:STANDARD
END:VTIMEZONE
END:VCALENDAR