BEGIN:VCALENDAR
VERSION:2.0
PRODID:-//wp-events-plugin.com//7.2.3.1//EN
TZID:America/New_York
X-WR-TIMEZONE:America/New_York
BEGIN:VEVENT
UID:4990@goriverwalk.com
DTSTART;TZID=America/New_York:20180625T180000
DTEND;TZID=America/New_York:20180625T210000
DTSTAMP:20180611T193443Z
URL:https://www.goriverwalk.com/greater-fort-lauderdale-events/soflo-femme
 s-in-food-and-film
SUMMARY:SOFLO Femmes in Food and Film
DESCRIPTION:A woman's place is in the (restaurant) kitchen!
ATTACH;FMTTYPE=image/jpeg:https://www.goriverwalk.com/wp-content/uploads/2
 018/06/LB-FULL-VERT-4UL-1501.jpg
CATEGORIES:Cocktail,Film,Food
LOCATION:The Tower Club Fort Lauderdale\, 100 SE Third Avenue\, 28th floor\
 , Fort Lauderdale \, Florida \, United States
GEO:26.1216652;-80.13982140000002
X-APPLE-STRUCTURED-LOCATION;VALUE=URI;X-ADDRESS=100 SE Third Avenue\, 28th 
 floor\, Fort Lauderdale \, Florida \, United States;X-APPLE-RADIUS=100;X-T
 ITLE=The Tower Club Fort Lauderdale:geo:26.1216652,-80.13982140000002
END:VEVENT
BEGIN:VTIMEZONE
TZID:America/New_York
X-LIC-LOCATION:America/New_York
BEGIN:DAYLIGHT
DTSTART:20180311T030000
TZOFFSETFROM:-0500
TZOFFSETTO:-0400
TZNAME:EDT
END:DAYLIGHT
END:VTIMEZONE
END:VCALENDAR