BEGIN:VCALENDAR
VERSION:2.0
PRODID:-//wp-events-plugin.com//7.2.3.1//EN
TZID:America/New_York
X-WR-TIMEZONE:America/New_York
BEGIN:VEVENT
UID:5981@goriverwalk.com
DTSTART;TZID=America/New_York:20181030T193000
DTEND;TZID=America/New_York:20181030T220000
DTSTAMP:20181008T170340Z
URL:https://www.goriverwalk.com/greater-fort-lauderdale-events/sofar-sound
 s-fort-lauderdale-4
SUMMARY:Sofar Sounds Fort Lauderdale
DESCRIPTION:Intimate performances in unique settings
ATTACH;FMTTYPE=image/jpeg:https://www.goriverwalk.com/wp-content/uploads/2
 018/10/GORIVERWALK-cover.jpg
CATEGORIES:Music
LOCATION:Secret Venue in Middle River Terrace\, Middle River Terrace\, Fort
  Lauderdale\, Florida\, 33304\, Florida\, United States
GEO:26.148045;-80.134483
X-APPLE-STRUCTURED-LOCATION;VALUE=URI;X-ADDRESS=Middle River Terrace\, Fort
  Lauderdale\, Florida\, 33304\, Florida\, United States;X-APPLE-RADIUS=100
 ;X-TITLE=Secret Venue in Middle River Terrace:geo:26.148045,-80.134483
END:VEVENT
BEGIN:VTIMEZONE
TZID:America/New_York
X-LIC-LOCATION:America/New_York
BEGIN:DAYLIGHT
DTSTART:20180311T030000
TZOFFSETFROM:-0500
TZOFFSETTO:-0400
TZNAME:EDT
END:DAYLIGHT
END:VTIMEZONE
END:VCALENDAR