BEGIN:VCALENDAR
VERSION:2.0
PRODID:-//wp-events-plugin.com//7.2.3.1//EN
TZID:America/New_York
X-WR-TIMEZONE:America/New_York
BEGIN:VEVENT
UID:5380@goriverwalk.com
DTSTART;TZID=America/New_York:20180826T180000
DTEND;TZID=America/New_York:20180826T200000
DTSTAMP:20180726T204231Z
URL:https://www.goriverwalk.com/greater-fort-lauderdale-events/sofar-sound
 s-fort-lauderdale-3
SUMMARY:Sofar Sounds Fort Lauderdale
DESCRIPTION:Unique performances in unique spaces
ATTACH;FMTTYPE=image/jpeg:https://www.goriverwalk.com/wp-content/uploads/2
 018/07/GORIVERWALK-cover.jpg
CATEGORIES:Music
LOCATION:Secret Space in Victoria Park\, Victoria Park\, Fort Lauderdale\, 
 FL\, 33301\, United States
GEO:26.130119;-80.128899
X-APPLE-STRUCTURED-LOCATION;VALUE=URI;X-ADDRESS=Victoria Park\, Fort Lauder
 dale\, FL\, 33301\, United States;X-APPLE-RADIUS=100;X-TITLE=Secret Space 
 in Victoria Park:geo:26.130119,-80.128899
END:VEVENT
BEGIN:VTIMEZONE
TZID:America/New_York
X-LIC-LOCATION:America/New_York
BEGIN:DAYLIGHT
DTSTART:20180311T030000
TZOFFSETFROM:-0500
TZOFFSETTO:-0400
TZNAME:EDT
END:DAYLIGHT
END:VTIMEZONE
END:VCALENDAR