BEGIN:VCALENDAR
VERSION:2.0
PRODID:-//wp-events-plugin.com//7.2.3.1//EN
TZID:America/New_York
X-WR-TIMEZONE:America/New_York
BEGIN:VEVENT
UID:4234@goriverwalk.com
DTSTART;TZID=America/New_York:20180218T130000
DTEND;TZID=America/New_York:20180218T170000
DTSTAMP:20180214T170857Z
URL:https://www.goriverwalk.com/greater-fort-lauderdale-events/so-flo-gosp
 el-jazz-brunch
SUMMARY:SO FLO Gospel & Jazz Brunch
DESCRIPTION:DCA Jazz Ensemble\, Saxophonist Randy Corinthian\, and Special 
 Guest Artist Urban Mystic + DJ S.I.D
ATTACH;FMTTYPE=image/jpeg:https://www.goriverwalk.com/wp-content/uploads/2
 018/02/sofla-gospel-jazz.jpg
CATEGORIES:Music
LOCATION:First Baptist Church Velocity Center\, 301 East Broward \, Ft Laud
 erdale \, FL\, 33301\, United States
GEO:26.12288;-80.13982729999998
X-APPLE-STRUCTURED-LOCATION;VALUE=URI;X-ADDRESS=301 East Broward \, Ft Laud
 erdale \, FL\, 33301\, United States;X-APPLE-RADIUS=100;X-TITLE=First Bapt
 ist Church Velocity Center:geo:26.12288,-80.13982729999998
END:VEVENT
BEGIN:VTIMEZONE
TZID:America/New_York
X-LIC-LOCATION:America/New_York
BEGIN:STANDARD
DTSTART:20171105T010000
TZOFFSETFROM:-0400
TZOFFSETTO:-0500
TZNAME:EST
END:STANDARD
END:VTIMEZONE
END:VCALENDAR