BEGIN:VCALENDAR
VERSION:2.0
PRODID:-//wp-events-plugin.com//7.2.3.1//EN
TZID:America/New_York
X-WR-TIMEZONE:America/New_York
BEGIN:VEVENT
UID:8422@goriverwalk.com
DTSTART;TZID=America/New_York:20191023T180000
DTEND;TZID=America/New_York:20191023T200000
DTSTAMP:20191015T165608Z
URL:https://www.goriverwalk.com/greater-fort-lauderdale-events/sleep-out-s
 outh-florida-kick-off-event
SUMMARY:Sleep Out South Florida Kick-Off Event
DESCRIPTION:Meet the participants
ATTACH;FMTTYPE=image/jpeg:https://www.goriverwalk.com/wp-content/uploads/2
 016/08/CH_SleepOut_Florida_Logo_Web_VERT.jpg
CATEGORIES:Cocktail,Fundraiser
LOCATION:Township\, 219 S. Andrews Avenue\, Fort Lauderdale\, FL\, 33301\, 
 United States
GEO:26.1198608;-80.14363800000001
X-APPLE-STRUCTURED-LOCATION;VALUE=URI;X-ADDRESS=219 S. Andrews Avenue\, For
 t Lauderdale\, FL\, 33301\, United States;X-APPLE-RADIUS=100;X-TITLE=Towns
 hip:geo:26.1198608,-80.14363800000001
END:VEVENT
BEGIN:VTIMEZONE
TZID:America/New_York
X-LIC-LOCATION:America/New_York
BEGIN:DAYLIGHT
DTSTART:20190310T030000
TZOFFSETFROM:-0500
TZOFFSETTO:-0400
TZNAME:EDT
END:DAYLIGHT
END:VTIMEZONE
END:VCALENDAR