BEGIN:VCALENDAR
VERSION:2.0
PRODID:-//wp-events-plugin.com//7.2.3.1//EN
TZID:America/New_York
X-WR-TIMEZONE:America/New_York
BEGIN:VEVENT
UID:6970@goriverwalk.com
DTSTART;TZID=America/New_York:20190223T070000
DTEND;TZID=America/New_York:20190223T190000
DTSTAMP:20190221T152226Z
URL:https://www.goriverwalk.com/greater-fort-lauderdale-events/sistrunk-pa
 rade-festival
SUMMARY:Sistrunk Parade & Festival
DESCRIPTION:A 5K\, parade and festival
ATTACH;FMTTYPE=image/jpeg:https://www.goriverwalk.com/wp-content/uploads/2
 019/02/sistrunk-parade.jpg
CATEGORIES:Community,Cultural
LOCATION:Rev. Samuel Delevoe Memorial Park\, 2520 NW 6th Street\, Fort Laud
 erdale \, FL\, 33311\, United States
GEO:26.1283506;-80.17551420000001
X-APPLE-STRUCTURED-LOCATION;VALUE=URI;X-ADDRESS=2520 NW 6th Street\, Fort L
 auderdale \, FL\, 33311\, United States;X-APPLE-RADIUS=100;X-TITLE=Rev. Sa
 muel Delevoe Memorial Park:geo:26.1283506,-80.17551420000001
END:VEVENT
BEGIN:VTIMEZONE
TZID:America/New_York
X-LIC-LOCATION:America/New_York
BEGIN:STANDARD
DTSTART:20181104T010000
TZOFFSETFROM:-0400
TZOFFSETTO:-0500
TZNAME:EST
END:STANDARD
END:VTIMEZONE
END:VCALENDAR