BEGIN:VCALENDAR
VERSION:2.0
PRODID:-//wp-events-plugin.com//7.2.3.1//EN
TZID:America/New_York
X-WR-TIMEZONE:America/New_York
BEGIN:VEVENT
UID:18712@goriverwalk.com
DTSTART;TZID=America/New_York:20240224T070000
DTEND;TZID=America/New_York:20240224T200000
DTSTAMP:20240220T203025Z
URL:https://www.goriverwalk.com/greater-fort-lauderdale-events/sistrunk-pa
 rade-festival-2
SUMMARY:Sistrunk Parade & Festival
DESCRIPTION:5K and Parade on Sistrunk Blvd\, Festival at Carter Park
ATTACH;FMTTYPE=image/jpeg:https://www.goriverwalk.com/wp-content/uploads/2
 024/02/Sistrunk-banner-e1708460863136.jpg
CATEGORIES:Children,Community,Cultural,Festival,Food,History,Music
END:VEVENT
BEGIN:VTIMEZONE
TZID:America/New_York
X-LIC-LOCATION:America/New_York
BEGIN:STANDARD
DTSTART:20231105T010000
TZOFFSETFROM:-0400
TZOFFSETTO:-0500
TZNAME:EST
END:STANDARD
END:VTIMEZONE
END:VCALENDAR