BEGIN:VCALENDAR
VERSION:2.0
PRODID:-//wp-events-plugin.com//7.2.3.1//EN
TZID:America/New_York
X-WR-TIMEZONE:America/New_York
BEGIN:VEVENT
UID:14061@goriverwalk.com
DTSTART;TZID=America/New_York:20220504T170000
DTEND;TZID=America/New_York:20220504T190000
DTSTAMP:20220421T193543Z
URL:https://www.goriverwalk.com/greater-fort-lauderdale-events/signature-s
 peaker-series-jocko-willink
SUMMARY:Signature Speaker Series - Jocko Willink
DESCRIPTION:Co-author of “Extreme Ownership: How U.S. Navy SEALS Lead and
  Win”
ATTACH;FMTTYPE=image/jpeg:https://www.goriverwalk.com/wp-content/uploads/2
 022/04/Jocko-Willink-NAIOP-2.jpg
CATEGORIES:Business,Education
LOCATION:Seminole Hard Rock Hotel and Casino\, 1 Seminole Way\, Hollywood\,
  FL\, 33314\, United States
GEO:26.0525928;-80.21242110000003
X-APPLE-STRUCTURED-LOCATION;VALUE=URI;X-ADDRESS=1 Seminole Way\, Hollywood\
 , FL\, 33314\, United States;X-APPLE-RADIUS=100;X-TITLE=Seminole Hard Rock
  Hotel and Casino:geo:26.0525928,-80.21242110000003
END:VEVENT
BEGIN:VTIMEZONE
TZID:America/New_York
X-LIC-LOCATION:America/New_York
BEGIN:DAYLIGHT
DTSTART:20220313T030000
TZOFFSETFROM:-0500
TZOFFSETTO:-0400
TZNAME:EDT
END:DAYLIGHT
END:VTIMEZONE
END:VCALENDAR