BEGIN:VCALENDAR
VERSION:2.0
PRODID:-//wp-events-plugin.com//7.2.3.1//EN
TZID:America/New_York
X-WR-TIMEZONE:America/New_York
BEGIN:VEVENT
UID:22891@goriverwalk.com
DTSTART;TZID=America/New_York:20260430T150000
DTEND;TZID=America/New_York:20260503T213000
DTSTAMP:20260421T143215Z
URL:https://www.goriverwalk.com/greater-fort-lauderdale-events/short-plays
 -lauder-made-vol-ii
SUMMARY:Short Plays Lauder Made Vol. II
DESCRIPTION:Lauder Made Vol. II\nby local playwrights\nWhat does it mean to
  live here\, love here\, and reckon with being human here? Short Plays: La
 uder Made Vol. II is the second annual festival of world-premiere short pl
 ays written and performed entirely by South Florida artists — born out o
 f New City Players' monthly playwright development program\, NCPLab.\nSinc
 e its pandemic-era origins as a twice-monthly Zoom gathering\, NCPLab has 
 grown into one of Fort Lauderdale's most vibrant incubators for new theatr
 ical work. Each month\, local playwrights respond to a prompt\, submit new
  short plays\, and gather at LauderAle Brewery to read\, discuss\, and dev
 elop their work together. Lauder Made is where the best of that year rises
  to the stage.\nThis volume features five world-premiere plays spanning co
 medy\, romance\, grief\, and raw personal reckoning — all written by Sou
 th Florida playwrights\, all made right here.\nLauder Made Vol. II is loca
 l theatre at its most essential: honest\, surprising\, and made by the com
 munity it reflects.\nWHEN\nApril 30–May 3\, 2026\n3pm + 8pm showtimes\nP
 RICE\n$30-$35 Tickets\nFor more information click here.
ATTACH;FMTTYPE=image/jpeg:https://www.goriverwalk.com/wp-content/uploads/2
 026/04/Screenshot-2026-04-13-at-10.42.47-AM.png
CATEGORIES:Community,Theater
LOCATION:General Provision Downtown\, 300 SW 1st Ave #155\, Fort Lauderdale
 \, FL\, 33301\, United States
GEO:26.1194302;-80.14486449999998
X-APPLE-STRUCTURED-LOCATION;VALUE=URI;X-ADDRESS=300 SW 1st Ave #155\, Fort 
 Lauderdale\, FL\, 33301\, United States;X-APPLE-RADIUS=100;X-TITLE=General
  Provision Downtown:geo:26.1194302,-80.14486449999998
END:VEVENT
BEGIN:VTIMEZONE
TZID:America/New_York
X-LIC-LOCATION:America/New_York
BEGIN:DAYLIGHT
DTSTART:20260308T030000
TZOFFSETFROM:-0500
TZOFFSETTO:-0400
TZNAME:EDT
END:DAYLIGHT
END:VTIMEZONE
END:VCALENDAR