BEGIN:VCALENDAR
VERSION:2.0
PRODID:-//wp-events-plugin.com//7.2.3.1//EN
TZID:America/New_York
X-WR-TIMEZONE:America/New_York
BEGIN:VEVENT
UID:21941@goriverwalk.com
DTSTART;TZID=America/New_York:20260124T100000
DTEND;TZID=America/New_York:20260125T160000
DTSTAMP:20260109T175559Z
URL:https://www.goriverwalk.com/greater-fort-lauderdale-events/shell-show
SUMMARY:Shell Show
DESCRIPTION:Immerse yourself in the beauty of the ocean at our Shell Show! 
 Explore an extraordinary collection of shells from around the world\, all 
 on display and available for sale.\n\nThe Broward Shell Club is the 58th a
 nnual event for the club\, founded in 1962\, one of the oldest shell clubs
  in Florida. It will feature 40 scientific exhibits\, 45 artistic exhibits
 \, and 16 vendors from around the country\, from as far away as California
  and Washington State. Exhibitors bring everything\, including fossils\, m
 inerals\, freshwater and sea shells\, jewelry\, cameos\, books\, and artwo
 rk.\n\nJanuary 24 | 10 AM-5 PM\n\nJanuary 25 | 10 AM- 4 PM\n\nFREE\n\nE. P
 at Larkins Center | 954-786-4585\n\nHappens on the following Dates:\nJan 2
 4\, 2026\, 10:00am to 5:00pm Timezone: Eastern Time (US &amp\; Canada)\nJa
 n 25\, 2026\, 10:00am to 4:00pm Timezone: Eastern Time (US &amp\; Canada)
ATTACH;FMTTYPE=image/jpeg:https://www.goriverwalk.com/wp-content/uploads/2
 026/01/Shell-show.png
CATEGORIES:Art,Free
LOCATION:E. Pat Larkins Community Center\, 520 NW 3rd St\, Pompano Beach\, 
 FL\, 33060\, United States
X-APPLE-STRUCTURED-LOCATION;VALUE=URI;X-ADDRESS=520 NW 3rd St\, Pompano Bea
 ch\, FL\, 33060\, United States;X-APPLE-RADIUS=100;X-TITLE=E. Pat Larkins 
 Community Center:geo:0,0
END:VEVENT
BEGIN:VTIMEZONE
TZID:America/New_York
X-LIC-LOCATION:America/New_York
BEGIN:STANDARD
DTSTART:20251102T010000
TZOFFSETFROM:-0400
TZOFFSETTO:-0500
TZNAME:EST
END:STANDARD
END:VTIMEZONE
END:VCALENDAR