BEGIN:VCALENDAR
VERSION:2.0
PRODID:-//wp-events-plugin.com//7.2.3.1//EN
TZID:America/New_York
X-WR-TIMEZONE:America/New_York
BEGIN:VEVENT
UID:18819@goriverwalk.com
DTSTART;TZID=America/New_York:20240317T080000
DTEND;TZID=America/New_York:20240317T120000
DTSTAMP:20240312T175105Z
URL:https://www.goriverwalk.com/greater-fort-lauderdale-events/shamrock-ru
 n
SUMMARY:Shamrock Run
DESCRIPTION:4 mile course filled with fun\, luck\, and laughter
ATTACH;FMTTYPE=image/jpeg:https://www.goriverwalk.com/wp-content/uploads/2
 024/03/3-17-24-Shamrock-Run.png
CATEGORIES:Community,Holiday
LOCATION:Huizenga Plaza\, 32 East Las Olas Boulevard\, Fort Lauderdale\, FL
 \, 33301\, United States
X-APPLE-STRUCTURED-LOCATION;VALUE=URI;X-ADDRESS=32 East Las Olas Boulevard\
 , Fort Lauderdale\, FL\, 33301\, United States;X-APPLE-RADIUS=100;X-TITLE=
 Huizenga Plaza:geo:0,0
END:VEVENT
BEGIN:VTIMEZONE
TZID:America/New_York
X-LIC-LOCATION:America/New_York
BEGIN:DAYLIGHT
DTSTART:20240310T030000
TZOFFSETFROM:-0500
TZOFFSETTO:-0400
TZNAME:EDT
END:DAYLIGHT
END:VTIMEZONE
END:VCALENDAR